BEGIN:VCALENDAR
VERSION:2.0
PRODID:icalendar-ruby
CALSCALE:GREGORIAN
METHOD:PUBLISH
BEGIN:VEVENT
DTSTAMP:20260424T104754Z
UID:59-73993@drexelmemorial.org
DTSTART:20260506T220000Z
DTEND:20260506T230000Z
CLASS:PUBLIC
CREATED:20260419T184507
DESCRIPTION:Please join us for\n“Prayer on the Porch”\nDrexel Memorial 
 Baptist Church\nDrexel\, NC\nThursday\, May 7\, 2026 @ 6:00 PM\nIt is poss
 ible to get our community\, county\, state\,\nand nation to be united in P
 RAYER. Invite your\nfamily\, friends\, neighbors\, coworkers!\nYou may bri
 ng your own chair for comfort.
LAST-MODIFIED:20260419T184507
LOCATION:Drexel Memorial Baptist Church 
SUMMARY:Prayer on The Porch
URL;VALUE=URI:https://www.drexelmemorial.org/events/prayer-on-the-porch/202
 6-05-06
ATTACH;FILENAME=2026-Theme-NDP-SM-600.jpg;FMTTYPE=image/jpeg:https://dq5pwp
 g1q8ru0.cloudfront.net/2026/04/19/22/45/06/a3b82631-bd4d-49cc-a950-dce23b7
 0fd35/2026-Theme-NDP-SM-600.jpg
END:VEVENT
END:VCALENDAR
