BEGIN:VCALENDAR
VERSION:2.0
PRODID:icalendar-ruby
CALSCALE:GREGORIAN
METHOD:PUBLISH
BEGIN:VEVENT
DTSTAMP:20260424T193526Z
UID:50-77268@drexelmemorial.org
DTSTART:20261105T000000Z
DTEND:20261105T010000Z
CLASS:PUBLIC
CREATED:20260424T153000
DESCRIPTION:
LAST-MODIFIED:20260424T153000
LOCATION:
SUMMARY:Adult Bible Study
URL;VALUE=URI:https://www.drexelmemorial.org/events/adult-bible-study/2026-
 11-04
END:VEVENT
END:VCALENDAR
