BEGIN:VCALENDAR
VERSION:2.0
PRODID:icalendar-ruby
CALSCALE:GREGORIAN
METHOD:PUBLISH
BEGIN:VEVENT
DTSTAMP:20260424T151748Z
UID:50-77041@drexelmemorial.org
DTSTART:20261014T230000Z
DTEND:20261015T000000Z
CLASS:PUBLIC
CREATED:20260424T095345
DESCRIPTION:
LAST-MODIFIED:20260424T095345
LOCATION:
SUMMARY:Adult Bible Study
URL;VALUE=URI:https://www.drexelmemorial.org/events/adult-bible-study/2026-
 10-14
END:VEVENT
END:VCALENDAR
