BEGIN:VCALENDAR
VERSION:2.0
PRODID:icalendar-ruby
CALSCALE:GREGORIAN
METHOD:PUBLISH
BEGIN:VEVENT
DTSTAMP:20260424T132741Z
UID:50-76928@drexelmemorial.org
DTSTART:20261007T230000Z
DTEND:20261008T000000Z
CLASS:PUBLIC
CREATED:20260424T065925
DESCRIPTION:
LAST-MODIFIED:20260424T065925
LOCATION:
SUMMARY:Adult Bible Study
URL;VALUE=URI:https://www.drexelmemorial.org/events/adult-bible-study/2026-
 10-07
END:VEVENT
END:VCALENDAR
