BEGIN:VCALENDAR
VERSION:2.0
PRODID:icalendar-ruby
CALSCALE:GREGORIAN
METHOD:PUBLISH
BEGIN:VEVENT
DTSTAMP:20260424T120458Z
UID:50-76927@drexelmemorial.org
DTSTART:20260930T230000Z
DTEND:20261001T000000Z
CLASS:PUBLIC
CREATED:20260424T065925
DESCRIPTION:
LAST-MODIFIED:20260424T065925
LOCATION:
SUMMARY:Adult Bible Study
URL;VALUE=URI:https://www.drexelmemorial.org/events/adult-bible-study/2026-
 09-30
END:VEVENT
END:VCALENDAR
