BEGIN:VCALENDAR
VERSION:2.0
PRODID:icalendar-ruby
CALSCALE:GREGORIAN
METHOD:PUBLISH
BEGIN:VEVENT
DTSTAMP:20260424T104538Z
UID:50-76814@drexelmemorial.org
DTSTART:20260923T230000Z
DTEND:20260924T000000Z
CLASS:PUBLIC
CREATED:20260423T213136
DESCRIPTION:
LAST-MODIFIED:20260423T213136
LOCATION:
SUMMARY:Adult Bible Study
URL;VALUE=URI:https://www.drexelmemorial.org/events/adult-bible-study/2026-
 09-23
END:VEVENT
END:VCALENDAR
